BEGIN:VCALENDAR
VERSION:2.0
PRODID:-//Eric Byrd Trio - ECPv6.15.20//NONSGML v1.0//EN
CALSCALE:GREGORIAN
METHOD:PUBLISH
X-ORIGINAL-URL:https://www.ericbyrdtrio.com
X-WR-CALDESC:Events for Eric Byrd Trio
REFRESH-INTERVAL;VALUE=DURATION:PT1H
X-Robots-Tag:noindex
X-PUBLISHED-TTL:PT1H
BEGIN:VTIMEZONE
TZID:America/New_York
BEGIN:DAYLIGHT
TZOFFSETFROM:-0500
TZOFFSETTO:-0400
TZNAME:EDT
DTSTART:20240310T070000
END:DAYLIGHT
BEGIN:STANDARD
TZOFFSETFROM:-0400
TZOFFSETTO:-0500
TZNAME:EST
DTSTART:20241103T060000
END:STANDARD
BEGIN:DAYLIGHT
TZOFFSETFROM:-0500
TZOFFSETTO:-0400
TZNAME:EDT
DTSTART:20250309T070000
END:DAYLIGHT
BEGIN:STANDARD
TZOFFSETFROM:-0400
TZOFFSETTO:-0500
TZNAME:EST
DTSTART:20251102T060000
END:STANDARD
BEGIN:DAYLIGHT
TZOFFSETFROM:-0500
TZOFFSETTO:-0400
TZNAME:EDT
DTSTART:20260308T070000
END:DAYLIGHT
BEGIN:STANDARD
TZOFFSETFROM:-0400
TZOFFSETTO:-0500
TZNAME:EST
DTSTART:20261101T060000
END:STANDARD
END:VTIMEZONE
BEGIN:VEVENT
DTSTART;TZID=America/New_York:20250417T193000
DTEND;TZID=America/New_York:20250417T210000
DTSTAMP:20260419T141441
CREATED:20240827T132927Z
LAST-MODIFIED:20240827T133030Z
UID:1965-1744918200-1744923600@www.ericbyrdtrio.com
SUMMARY:DMV Jazz Series at New Spire Arts
DESCRIPTION:A favorite of Weinberg Center audiences\, enjoy music from jazz legends like Duke Ellington\, Miles Davis\, and John Coltrane\, with special guest collaborations. \nThe Eric Byrd Trio\, comprised of pianist/vocalist Eric Byrd\, bassist Will Hazlehurst\, and drummer Alphonso Young\, Jr. will play a repertoire to celebrate Jazz Appreciation Month and the legends of jazz that have helped shape the genre. Enjoy the music of Duke Ellington\, Miles Davis\, Wayne Shorter\, John Coltrane\, Herbie Hancock and more. They’ll also invite some special guests to collaborate with them.
URL:https://www.ericbyrdtrio.com/event/dmv-jazz-series-at-new-spire-arts/
LOCATION:New Spire Arts\, 15 West Patrick Street\, Frederick\, MD\, 21701\, United States
ATTACH;FMTTYPE=image/png:https://www.ericbyrdtrio.com/wp-content/uploads/2024/04/Will-trio.png
END:VEVENT
END:VCALENDAR