BEGIN:VCALENDAR
VERSION:2.0
PRODID:-//Eric Byrd Trio - ECPv6.15.20//NONSGML v1.0//EN
CALSCALE:GREGORIAN
METHOD:PUBLISH
X-WR-CALNAME:Eric Byrd Trio
X-ORIGINAL-URL:https://www.ericbyrdtrio.com
X-WR-CALDESC:Events for Eric Byrd Trio
REFRESH-INTERVAL;VALUE=DURATION:PT1H
X-Robots-Tag:noindex
X-PUBLISHED-TTL:PT1H
BEGIN:VTIMEZONE
TZID:America/New_York
BEGIN:DAYLIGHT
TZOFFSETFROM:-0500
TZOFFSETTO:-0400
TZNAME:EDT
DTSTART:20240310T070000
END:DAYLIGHT
BEGIN:STANDARD
TZOFFSETFROM:-0400
TZOFFSETTO:-0500
TZNAME:EST
DTSTART:20241103T060000
END:STANDARD
BEGIN:DAYLIGHT
TZOFFSETFROM:-0500
TZOFFSETTO:-0400
TZNAME:EDT
DTSTART:20250309T070000
END:DAYLIGHT
BEGIN:STANDARD
TZOFFSETFROM:-0400
TZOFFSETTO:-0500
TZNAME:EST
DTSTART:20251102T060000
END:STANDARD
BEGIN:DAYLIGHT
TZOFFSETFROM:-0500
TZOFFSETTO:-0400
TZNAME:EDT
DTSTART:20260308T070000
END:DAYLIGHT
BEGIN:STANDARD
TZOFFSETFROM:-0400
TZOFFSETTO:-0500
TZNAME:EST
DTSTART:20261101T060000
END:STANDARD
END:VTIMEZONE
BEGIN:VEVENT
DTSTART;TZID=America/New_York:20250823T190000
DTEND;TZID=America/New_York:20250823T220000
DTSTAMP:20260419T193722
CREATED:20250116T024519Z
LAST-MODIFIED:20250729T135038Z
UID:2109-1755975600-1755986400@www.ericbyrdtrio.com
SUMMARY:Echoes Of Arrival CD Release Concert
DESCRIPTION:We will be celebrating and releasing our brand new release. \n2 sets
URL:https://www.ericbyrdtrio.com/event/concert-7/
LOCATION:Takoma Station Tavern\, 6914 4th Street NW\, Washington\, DC\, United States
ATTACH;FMTTYPE=image/jpeg:https://www.ericbyrdtrio.com/wp-content/uploads/2025/01/cd.jpg
END:VEVENT
END:VCALENDAR