BEGIN:VCALENDAR
VERSION:2.0
PRODID:-//Eric Byrd Trio - ECPv6.15.20//NONSGML v1.0//EN
CALSCALE:GREGORIAN
METHOD:PUBLISH
X-ORIGINAL-URL:https://www.ericbyrdtrio.com
X-WR-CALDESC:Events for Eric Byrd Trio
REFRESH-INTERVAL;VALUE=DURATION:PT1H
X-Robots-Tag:noindex
X-PUBLISHED-TTL:PT1H
BEGIN:VTIMEZONE
TZID:America/New_York
BEGIN:DAYLIGHT
TZOFFSETFROM:-0500
TZOFFSETTO:-0400
TZNAME:EDT
DTSTART:20240310T070000
END:DAYLIGHT
BEGIN:STANDARD
TZOFFSETFROM:-0400
TZOFFSETTO:-0500
TZNAME:EST
DTSTART:20241103T060000
END:STANDARD
BEGIN:DAYLIGHT
TZOFFSETFROM:-0500
TZOFFSETTO:-0400
TZNAME:EDT
DTSTART:20250309T070000
END:DAYLIGHT
BEGIN:STANDARD
TZOFFSETFROM:-0400
TZOFFSETTO:-0500
TZNAME:EST
DTSTART:20251102T060000
END:STANDARD
BEGIN:DAYLIGHT
TZOFFSETFROM:-0500
TZOFFSETTO:-0400
TZNAME:EDT
DTSTART:20260308T070000
END:DAYLIGHT
BEGIN:STANDARD
TZOFFSETFROM:-0400
TZOFFSETTO:-0500
TZNAME:EST
DTSTART:20261101T060000
END:STANDARD
END:VTIMEZONE
BEGIN:VEVENT
DTSTART;TZID=America/New_York:20251204T180000
DTEND;TZID=America/New_York:20251204T193000
DTSTAMP:20260420T000921
CREATED:20250901T160751Z
LAST-MODIFIED:20250901T161043Z
UID:2441-1764871200-1764876600@www.ericbyrdtrio.com
SUMMARY:Charlie Brown: Keystone Korner 6pm
DESCRIPTION:Two Show at 6 pm and 830 pm
URL:https://www.ericbyrdtrio.com/event/charlie-brown-keystone-korner/
LOCATION:Keystone Korner\, 1350 Lancaster Street\, Baltimore\, MD\, 21231\, United States
ATTACH;FMTTYPE=image/png:https://www.ericbyrdtrio.com/wp-content/uploads/2024/08/CB-Christmas-3.png
END:VEVENT
BEGIN:VEVENT
DTSTART;TZID=America/New_York:20251204T203000
DTEND;TZID=America/New_York:20251204T213000
DTSTAMP:20260420T000921
CREATED:20250901T161123Z
LAST-MODIFIED:20250901T161123Z
UID:2446-1764880200-1764883800@www.ericbyrdtrio.com
SUMMARY:Charlie Brown: Keystone Korner 8:30pm
DESCRIPTION:Two Show at 6 pm and 830 pm
URL:https://www.ericbyrdtrio.com/event/charlie-brown-keystone-korner-830pm/
LOCATION:Keystone Korner\, 1350 Lancaster Street\, Baltimore\, MD\, 21231\, United States
ATTACH;FMTTYPE=image/png:https://www.ericbyrdtrio.com/wp-content/uploads/2024/08/CB-Christmas-3.png
END:VEVENT
END:VCALENDAR