BEGIN:VCALENDAR
VERSION:2.0
PRODID:-//Eric Byrd Trio - ECPv6.15.20//NONSGML v1.0//EN
CALSCALE:GREGORIAN
METHOD:PUBLISH
X-ORIGINAL-URL:https://www.ericbyrdtrio.com
X-WR-CALDESC:Events for Eric Byrd Trio
REFRESH-INTERVAL;VALUE=DURATION:PT1H
X-Robots-Tag:noindex
X-PUBLISHED-TTL:PT1H
BEGIN:VTIMEZONE
TZID:America/New_York
BEGIN:DAYLIGHT
TZOFFSETFROM:-0500
TZOFFSETTO:-0400
TZNAME:EDT
DTSTART:20240310T070000
END:DAYLIGHT
BEGIN:STANDARD
TZOFFSETFROM:-0400
TZOFFSETTO:-0500
TZNAME:EST
DTSTART:20241103T060000
END:STANDARD
BEGIN:DAYLIGHT
TZOFFSETFROM:-0500
TZOFFSETTO:-0400
TZNAME:EDT
DTSTART:20250309T070000
END:DAYLIGHT
BEGIN:STANDARD
TZOFFSETFROM:-0400
TZOFFSETTO:-0500
TZNAME:EST
DTSTART:20251102T060000
END:STANDARD
BEGIN:DAYLIGHT
TZOFFSETFROM:-0500
TZOFFSETTO:-0400
TZNAME:EDT
DTSTART:20260308T070000
END:DAYLIGHT
BEGIN:STANDARD
TZOFFSETFROM:-0400
TZOFFSETTO:-0500
TZNAME:EST
DTSTART:20261101T060000
END:STANDARD
BEGIN:DAYLIGHT
TZOFFSETFROM:-0500
TZOFFSETTO:-0400
TZNAME:EDT
DTSTART:20270314T070000
END:DAYLIGHT
BEGIN:STANDARD
TZOFFSETFROM:-0400
TZOFFSETTO:-0500
TZNAME:EST
DTSTART:20271107T060000
END:STANDARD
END:VTIMEZONE
BEGIN:VEVENT
DTSTART;TZID=America/New_York:20250912T083000
DTEND;TZID=America/New_York:20250912T100000
DTSTAMP:20260420T002834
CREATED:20250901T231330Z
LAST-MODIFIED:20250901T231413Z
UID:2453-1757665800-1757671200@www.ericbyrdtrio.com
SUMMARY:DC-WTTG Television Fox 5 Appearance
DESCRIPTION:
URL:https://www.ericbyrdtrio.com/event/dc-wttg-television-fox-5-appearance/
LOCATION:Fox 5
ATTACH;FMTTYPE=image/png:https://www.ericbyrdtrio.com/wp-content/uploads/2016/04/EBT-3-big.png
END:VEVENT
BEGIN:VEVENT
DTSTART;TZID=America/New_York:20251005T110000
DTEND;TZID=America/New_York:20251005T140000
DTSTAMP:20260420T002834
CREATED:20250901T231534Z
LAST-MODIFIED:20250901T231718Z
UID:2456-1759662000-1759672800@www.ericbyrdtrio.com
SUMMARY:Jazz Brunch
DESCRIPTION:
URL:https://www.ericbyrdtrio.com/event/jazz-brunch-2/
LOCATION:Bentztown\, 6 S Bentztown Strreet\, Frederick\, MD\, 21701
ATTACH;FMTTYPE=image/jpeg:https://www.ericbyrdtrio.com/wp-content/uploads/2025/06/Eric-Bryd-Trio-6.jpg
END:VEVENT
BEGIN:VEVENT
DTSTART;TZID=America/New_York:20251130T150000
DTEND;TZID=America/New_York:20251130T163000
DTSTAMP:20260420T002834
CREATED:20251001T214020Z
LAST-MODIFIED:20251001T214020Z
UID:2488-1764514800-1764520200@www.ericbyrdtrio.com
SUMMARY:Charlie Brown Christmas Early Show
DESCRIPTION:2 Shows \n3 pm & 6:30 pm
URL:https://www.ericbyrdtrio.com/event/charlie-brown-christmas-early-show/
LOCATION:The Hamilton Live\, 600 14th Street\, NW\, Washington\, DC\, 20005\, United States
ATTACH;FMTTYPE=image/jpeg:https://www.ericbyrdtrio.com/wp-content/uploads/2025/04/hamiltondc.jpeg
END:VEVENT
BEGIN:VEVENT
DTSTART;TZID=America/New_York:20251130T183000
DTEND;TZID=America/New_York:20251130T200000
DTSTAMP:20260420T002834
CREATED:20250426T003027Z
LAST-MODIFIED:20251001T214136Z
UID:2198-1764527400-1764532800@www.ericbyrdtrio.com
SUMMARY:Charlie Brown Christmas Evening Show
DESCRIPTION:2 Shows \n3 pm & 6:30 pm
URL:https://www.ericbyrdtrio.com/event/charlie-brown-christmas-3/
LOCATION:The Hamilton Live\, 600 14th Street\, NW\, Washington\, DC\, 20005\, United States
ATTACH;FMTTYPE=image/jpeg:https://www.ericbyrdtrio.com/wp-content/uploads/2025/04/hamiltondc.jpeg
END:VEVENT
BEGIN:VEVENT
DTSTART;TZID=America/New_York:20251204T180000
DTEND;TZID=America/New_York:20251204T193000
DTSTAMP:20260420T002834
CREATED:20250901T160751Z
LAST-MODIFIED:20250901T161043Z
UID:2441-1764871200-1764876600@www.ericbyrdtrio.com
SUMMARY:Charlie Brown: Keystone Korner 6pm
DESCRIPTION:Two Show at 6 pm and 830 pm
URL:https://www.ericbyrdtrio.com/event/charlie-brown-keystone-korner/
LOCATION:Keystone Korner\, 1350 Lancaster Street\, Baltimore\, MD\, 21231\, United States
ATTACH;FMTTYPE=image/png:https://www.ericbyrdtrio.com/wp-content/uploads/2024/08/CB-Christmas-3.png
END:VEVENT
BEGIN:VEVENT
DTSTART;TZID=America/New_York:20251204T203000
DTEND;TZID=America/New_York:20251204T213000
DTSTAMP:20260420T002834
CREATED:20250901T161123Z
LAST-MODIFIED:20250901T161123Z
UID:2446-1764880200-1764883800@www.ericbyrdtrio.com
SUMMARY:Charlie Brown: Keystone Korner 8:30pm
DESCRIPTION:Two Show at 6 pm and 830 pm
URL:https://www.ericbyrdtrio.com/event/charlie-brown-keystone-korner-830pm/
LOCATION:Keystone Korner\, 1350 Lancaster Street\, Baltimore\, MD\, 21231\, United States
ATTACH;FMTTYPE=image/png:https://www.ericbyrdtrio.com/wp-content/uploads/2024/08/CB-Christmas-3.png
END:VEVENT
BEGIN:VEVENT
DTSTART;VALUE=DATE:20251205
DTEND;VALUE=DATE:20251206
DTSTAMP:20260420T002834
CREATED:20250426T001524Z
LAST-MODIFIED:20250901T161516Z
UID:2194-1764892800-1764979199@www.ericbyrdtrio.com
SUMMARY:Charlie Brown Christmas Dec 5th Shows
DESCRIPTION:4 shows total\, 2 shows for each date \n6p & 8p \nDecember 5th & 6th
URL:https://www.ericbyrdtrio.com/event/charlie-brown-christmas-2/
LOCATION:Maryland Hall for the Creative Arts\, 801 Chase Street\, Annapolis\, MD\, 21401
ATTACH;FMTTYPE=image/png:https://www.ericbyrdtrio.com/wp-content/uploads/2024/08/CB-Christmas-3.png
END:VEVENT
BEGIN:VEVENT
DTSTART;VALUE=DATE:20251206
DTEND;VALUE=DATE:20251207
DTSTAMP:20260420T002834
CREATED:20250901T161637Z
LAST-MODIFIED:20250928T003540Z
UID:2451-1764979200-1765065599@www.ericbyrdtrio.com
SUMMARY:Charlie Brown Christmas Dec 6th Shows
DESCRIPTION:4 shows total\, 2 shows for each date \n6p & 8p \nDecember 5th & 6th
URL:https://www.ericbyrdtrio.com/event/charlie-brown-christmas-dec-6th-shows/
LOCATION:Maryland Hall for the Creative Arts\, 801 Chase Street\, Annapolis\, MD\, 21401
ATTACH;FMTTYPE=image/png:https://www.ericbyrdtrio.com/wp-content/uploads/2024/08/CB-Christmas-3.png
END:VEVENT
BEGIN:VEVENT
DTSTART;TZID=America/New_York:20251207T150000
DTEND;TZID=America/New_York:20251207T163000
DTSTAMP:20260420T002834
CREATED:20251128T170951Z
LAST-MODIFIED:20251128T170951Z
UID:2535-1765119600-1765125000@www.ericbyrdtrio.com
SUMMARY:Charlie Brown: Carroll Arts 3pm
DESCRIPTION:
URL:https://www.ericbyrdtrio.com/event/charlie-brown-carroll-arts-3pm/
LOCATION:Carroll Arts Council\, 91 W Main Street\, Westminster\, MD\, 21157\, United States
ATTACH;FMTTYPE=image/jpeg:https://www.ericbyrdtrio.com/wp-content/uploads/2025/03/DSC04571-2.jpg
END:VEVENT
BEGIN:VEVENT
DTSTART;TZID=America/New_York:20251207T180000
DTEND;TZID=America/New_York:20251207T193000
DTSTAMP:20260420T002834
CREATED:20251128T171202Z
LAST-MODIFIED:20251128T171202Z
UID:2537-1765130400-1765135800@www.ericbyrdtrio.com
SUMMARY:Charlie Brown: Carroll Arts 6pm
DESCRIPTION:
URL:https://www.ericbyrdtrio.com/event/charlie-brown-carroll-arts-6pm/
LOCATION:Carroll Arts Council\, 91 W Main Street\, Westminster\, MD\, 21157\, United States
ATTACH;FMTTYPE=image/jpeg:https://www.ericbyrdtrio.com/wp-content/uploads/2025/03/DSC04571-2.jpg
END:VEVENT
BEGIN:VEVENT
DTSTART;TZID=America/New_York:20251210T190000
DTEND;TZID=America/New_York:20251210T200000
DTSTAMP:20260420T002834
CREATED:20251128T171629Z
LAST-MODIFIED:20251128T171629Z
UID:2539-1765393200-1765396800@www.ericbyrdtrio.com
SUMMARY:Charlie Brown: Amblebrook
DESCRIPTION:
URL:https://www.ericbyrdtrio.com/event/charlie-brown-amblebrook/
LOCATION:Amblebrook\, 25 Lively Stream Way\, Gettysburg\, PA\, 17325
ATTACH;FMTTYPE=image/jpeg:https://www.ericbyrdtrio.com/wp-content/uploads/2025/06/Eric-Bryd-Trio-2.jpg
END:VEVENT
BEGIN:VEVENT
DTSTART;TZID=America/New_York:20251212T180000
DTEND;TZID=America/New_York:20251212T200000
DTSTAMP:20260420T002834
CREATED:20251201T061702Z
LAST-MODIFIED:20251128T172513Z
UID:2542-1765562400-1765569600@www.ericbyrdtrio.com
SUMMARY:Charlie Brown: Northern VA
DESCRIPTION:
URL:https://www.ericbyrdtrio.com/event/charlie-brown-northern-va/
LOCATION:George Washington Masonic National Memorial\, 101 Callahan Drive\, Alexandria\, VA\, 22301
ATTACH;FMTTYPE=image/png:https://www.ericbyrdtrio.com/wp-content/uploads/2023/07/Events-images-on-trio-webpage.png
END:VEVENT
BEGIN:VEVENT
DTSTART;TZID=America/New_York:20251214T160000
DTEND;TZID=America/New_York:20251214T173000
DTSTAMP:20260420T002834
CREATED:20251128T173346Z
LAST-MODIFIED:20251128T173346Z
UID:2545-1765728000-1765733400@www.ericbyrdtrio.com
SUMMARY:Charlie Brown: Bel Air 4pm
DESCRIPTION:
URL:https://www.ericbyrdtrio.com/event/charlie-brown-bel-air-4pm/
LOCATION:Liriondon Mansion\, 502 W. Gordon Street\, Bel Air\, MD\, 21014
ATTACH;FMTTYPE=image/jpeg:https://www.ericbyrdtrio.com/wp-content/uploads/2025/05/franklin-portrait-21_custom-6c1f367b6ba1d169d579516afc8d189201bfcca3.jpg
END:VEVENT
BEGIN:VEVENT
DTSTART;TZID=America/New_York:20251214T190000
DTEND;TZID=America/New_York:20251214T203000
DTSTAMP:20260420T002834
CREATED:20251128T173436Z
LAST-MODIFIED:20251128T173436Z
UID:2548-1765738800-1765744200@www.ericbyrdtrio.com
SUMMARY:Charlie Brown: Bel Air 7pm
DESCRIPTION:
URL:https://www.ericbyrdtrio.com/event/charlie-brown-bel-air-7pm/
LOCATION:Liriondon Mansion\, 502 W. Gordon Street\, Bel Air\, MD\, 21014
ATTACH;FMTTYPE=image/jpeg:https://www.ericbyrdtrio.com/wp-content/uploads/2025/05/franklin-portrait-21_custom-6c1f367b6ba1d169d579516afc8d189201bfcca3.jpg
END:VEVENT
BEGIN:VEVENT
DTSTART;TZID=America/New_York:20251217T180000
DTEND;TZID=America/New_York:20251217T210000
DTSTAMP:20260420T002834
CREATED:20251025T125009Z
LAST-MODIFIED:20251025T125009Z
UID:2497-1765994400-1766005200@www.ericbyrdtrio.com
SUMMARY:Concert
DESCRIPTION:Paul Carr Presents: Real Jazz Wednesdays @Takoma Station
URL:https://www.ericbyrdtrio.com/event/concert-10/
LOCATION:Takoma Station Tavern\, 6914 4th Street NW\, Washington\, DC\, United States
ATTACH;FMTTYPE=image/png:https://www.ericbyrdtrio.com/wp-content/uploads/2024/12/Events-images-on-trio-webpage-1.png
END:VEVENT
BEGIN:VEVENT
DTSTART;TZID=America/New_York:20251219T200000
DTEND;TZID=America/New_York:20251219T213000
DTSTAMP:20260420T002834
CREATED:20250901T231922Z
LAST-MODIFIED:20250901T231922Z
UID:2458-1766174400-1766179800@www.ericbyrdtrio.com
SUMMARY:Charlie Brown: Weinberg
DESCRIPTION:
URL:https://www.ericbyrdtrio.com/event/charlie-brown-weinberg-2/
LOCATION:Weinberg Center for Performing Arts\, 20 W Patrick Street\, Frederick\, MD\, 21701\, United States
ATTACH;FMTTYPE=image/png:https://www.ericbyrdtrio.com/wp-content/uploads/2024/08/CB-Christmas-3.png
END:VEVENT
BEGIN:VEVENT
DTSTART;TZID=America/New_York:20251220T140000
DTEND;TZID=America/New_York:20251220T160000
DTSTAMP:20260420T002834
CREATED:20251112T223009Z
LAST-MODIFIED:20251112T223009Z
UID:2507-1766239200-1766246400@www.ericbyrdtrio.com
SUMMARY:Charlie Brown Christmas: Montpelier Arts
DESCRIPTION:
URL:https://www.ericbyrdtrio.com/event/charlie-brown-christmas-montpelier-arts/
LOCATION:Montpelier Arts Center\, 9652 Muirkirk Rd\, Laurel\, MD\, 20708\, United States
ATTACH;FMTTYPE=image/png:https://www.ericbyrdtrio.com/wp-content/uploads/2024/08/CB-Christmas-3.png
END:VEVENT
BEGIN:VEVENT
DTSTART;TZID=America/New_York:20251220T200000
DTEND;TZID=America/New_York:20251220T210000
DTSTAMP:20260420T002834
CREATED:20250901T232314Z
LAST-MODIFIED:20251112T223350Z
UID:2460-1766260800-1766264400@www.ericbyrdtrio.com
SUMMARY:Charlie Brown Christmas: Carlisle
DESCRIPTION:
URL:https://www.ericbyrdtrio.com/event/charlie-brown-carlisle/
LOCATION:Carlisle Theater\, 40 W High St\, Carlisle\, PA\, 17013\, United States
ATTACH;FMTTYPE=image/png:https://www.ericbyrdtrio.com/wp-content/uploads/2024/08/CB-Christmas-3.png
END:VEVENT
BEGIN:VEVENT
DTSTART;TZID=America/New_York:20251221T180000
DTEND;TZID=America/New_York:20251221T190000
DTSTAMP:20260420T002834
CREATED:20251201T064425Z
LAST-MODIFIED:20260107T015536Z
UID:2550-1766340000-1766343600@www.ericbyrdtrio.com
SUMMARY:Charlie Brown: Lucketts
DESCRIPTION:
URL:https://www.ericbyrdtrio.com/event/charlie-brown-lucketts/
LOCATION:Faith Chapel\, 14188 Chapel Lane\, Lucketts\, VA\, 20176\, United States
ATTACH;FMTTYPE=image/png:https://www.ericbyrdtrio.com/wp-content/uploads/2025/11/Screenshot-2025-11-28-at-12.36.24-PM.png
END:VEVENT
BEGIN:VEVENT
DTSTART;TZID=America/New_York:20260118T110000
DTEND;TZID=America/New_York:20260118T140000
DTSTAMP:20260420T002834
CREATED:20260107T015333Z
LAST-MODIFIED:20260107T020153Z
UID:3073-1768734000-1768744800@www.ericbyrdtrio.com
SUMMARY:Jazz Brunch
DESCRIPTION:RSVP’s are highly suggested
URL:https://www.ericbyrdtrio.com/event/jazz-brunch-3/
LOCATION:Bentztown Brunch\, 6 S Bentz St\, Frederick\, Maryland\, 21701\, United States
ATTACH;FMTTYPE=image/jpeg:https://www.ericbyrdtrio.com/wp-content/uploads/2025/06/Eric-Bryd-Trio-2.jpg
END:VEVENT
BEGIN:VEVENT
DTSTART;TZID=America/New_York:20260118T170000
DTEND;TZID=America/New_York:20260118T190000
DTSTAMP:20260420T002834
CREATED:20260107T020626Z
LAST-MODIFIED:20260107T023914Z
UID:3080-1768755600-1768762800@www.ericbyrdtrio.com
SUMMARY:Steinhardt Jazz Jam Session
DESCRIPTION:The Eric Byrd Trio is the house band – come play with us!
URL:https://www.ericbyrdtrio.com/event/steinhardt-jazz-jam-session/
LOCATION:Steinhardt Brewing\, 340 E Patrick St Suite 100-102\,\, Frederick\, Maryland\, 21701
ATTACH;FMTTYPE=image/jpeg:https://www.ericbyrdtrio.com/wp-content/uploads/2026/01/jam.jpg
END:VEVENT
BEGIN:VEVENT
DTSTART;TZID=America/New_York:20260215T180000
DTEND;TZID=America/New_York:20260215T191500
DTSTAMP:20260420T002834
CREATED:20260201T201020Z
LAST-MODIFIED:20260201T201603Z
UID:3171-1771178400-1771182900@www.ericbyrdtrio.com
SUMMARY:Performance at the MidAtlantic Jazz Festival
DESCRIPTION:The Trio performs songs from their latest recording “Echoes of Arrival”
URL:https://www.ericbyrdtrio.com/event/performance-at-the-midatlantic-jazz-festival/
LOCATION:Mid Atlantic Jazz Festival\, BETHESDA MARRIOTT • 5151 POOKS HILL RD\, BETHESDA\, Maryland
END:VEVENT
BEGIN:VEVENT
DTSTART;TZID=America/New_York:20260220T193000
DTEND;TZID=America/New_York:20260220T203000
DTSTAMP:20260420T002834
CREATED:20251127T030256Z
LAST-MODIFIED:20251127T030256Z
UID:2514-1771615800-1771619400@www.ericbyrdtrio.com
SUMMARY:Concert
DESCRIPTION:
URL:https://www.ericbyrdtrio.com/event/concert-11/
LOCATION:Riderwood Village\, 3140 Gracefield Road\, Silver Spring\, MD\, 20904\, United States
ATTACH;FMTTYPE=image/jpeg:https://www.ericbyrdtrio.com/wp-content/uploads/2025/09/Echoes-of-Arrival-300.jpg
END:VEVENT
BEGIN:VEVENT
DTSTART;TZID=America/New_York:20260301T150000
DTEND;TZID=America/New_York:20260301T163000
DTSTAMP:20260420T002834
CREATED:20251127T030658Z
LAST-MODIFIED:20251127T030658Z
UID:2519-1772377200-1772382600@www.ericbyrdtrio.com
SUMMARY:Concert
DESCRIPTION:
URL:https://www.ericbyrdtrio.com/event/concert-13/
LOCATION:Springfield Presbyterian Church\, 7314 Spout Hill Rd.\, Sykesville\, Maryland\, 21784
ATTACH;FMTTYPE=image/jpeg:https://www.ericbyrdtrio.com/wp-content/uploads/2025/06/Eric-Bryd-Trio-6.jpg
END:VEVENT
BEGIN:VEVENT
DTSTART;TZID=America/New_York:20260308T190000
DTEND;TZID=America/New_York:20260308T200000
DTSTAMP:20260420T002834
CREATED:20251127T030837Z
LAST-MODIFIED:20260223T221644Z
UID:2522-1772996400-1773000000@www.ericbyrdtrio.com
SUMMARY:Concert
DESCRIPTION:
URL:https://www.ericbyrdtrio.com/event/concert-14/
LOCATION:Union Square\, 25 South Stricker Street\, Baltimore\, Maryland\, 21223
ATTACH;FMTTYPE=image/jpeg:https://www.ericbyrdtrio.com/wp-content/uploads/2025/03/Yes-copy.jpg
END:VEVENT
BEGIN:VEVENT
DTSTART;TZID=America/New_York:20260313T180000
DTEND;TZID=America/New_York:20260313T193000
DTSTAMP:20260420T002834
CREATED:20251127T031121Z
LAST-MODIFIED:20251127T031121Z
UID:2525-1773424800-1773430200@www.ericbyrdtrio.com
SUMMARY:Concert
DESCRIPTION:
URL:https://www.ericbyrdtrio.com/event/concert-15/
LOCATION:Leisure World of Maryland\, 3701 Rossmoor Blvd\, Silver Spring\, Maryland\, 20906
ATTACH;FMTTYPE=image/png:https://www.ericbyrdtrio.com/wp-content/uploads/2024/08/gray-1.png
END:VEVENT
BEGIN:VEVENT
DTSTART;TZID=America/New_York:20260322T100000
DTEND;TZID=America/New_York:20260322T113000
DTSTAMP:20260420T002834
CREATED:20250625T184305Z
LAST-MODIFIED:20260319T114643Z
UID:2321-1774173600-1774179000@www.ericbyrdtrio.com
SUMMARY:Sunday Morning Concert at Cabin John Amphitheater
DESCRIPTION:
URL:https://www.ericbyrdtrio.com/event/sunday-morning-concert-at-cabin-john-amphitheater/
LOCATION:Cabin John Regional Park\, 7400 Tuckerman Lane\, Bethesda\, MD\, 20817
ATTACH;FMTTYPE=image/png:https://www.ericbyrdtrio.com/wp-content/uploads/2024/12/Events-images-on-trio-webpage-1.png
END:VEVENT
BEGIN:VEVENT
DTSTART;TZID=America/New_York:20260328T180000
DTEND;TZID=America/New_York:20260328T200000
DTSTAMP:20260420T002834
CREATED:20260107T022224Z
LAST-MODIFIED:20260306T152454Z
UID:3091-1774720800-1774728000@www.ericbyrdtrio.com
SUMMARY:Concert
DESCRIPTION:Michener Library at the Chesapeake Hyatt with the backdrop of the Choptank River
URL:https://www.ericbyrdtrio.com/event/concert-12/
LOCATION:Hyatt Regency Chesapeake Bay Golf Resort\, Spa and Marina\, 100 Heron Blvd\, Cambridge\, Maryland\, 21613
ATTACH;FMTTYPE=image/png:https://www.ericbyrdtrio.com/wp-content/uploads/2026/01/edited-Trio-instrument-pics.png
END:VEVENT
BEGIN:VEVENT
DTSTART;TZID=America/New_York:20260412T170000
DTEND;TZID=America/New_York:20260412T183000
DTSTAMP:20260420T002834
CREATED:20251127T032312Z
LAST-MODIFIED:20260126T220222Z
UID:2528-1776013200-1776018600@www.ericbyrdtrio.com
SUMMARY:Paul Carr & The Eric Byrd Trio 5pm Show
DESCRIPTION:
URL:https://www.ericbyrdtrio.com/event/paul-carr-the-eric-byrd-trio-5pm-show/
LOCATION:Keystone Korner\, 1350 Lancaster Street\, Baltimore\, MD\, 21231\, United States
ATTACH;FMTTYPE=image/jpeg:https://www.ericbyrdtrio.com/wp-content/uploads/2025/11/Paul-Carr.jpg
END:VEVENT
BEGIN:VEVENT
DTSTART;TZID=America/New_York:20260412T193000
DTEND;TZID=America/New_York:20260412T210000
DTSTAMP:20260420T002834
CREATED:20251127T032430Z
LAST-MODIFIED:20260126T215548Z
UID:2531-1776022200-1776027600@www.ericbyrdtrio.com
SUMMARY:Paul Carr & The Eric Byrd Trio 7:30pm Show
DESCRIPTION:
URL:https://www.ericbyrdtrio.com/event/paul-carr-the-eric-byrd-trio-730pm-show/
LOCATION:Keystone Korner\, 1350 Lancaster Street\, Baltimore\, Maryland\, 21231
ATTACH;FMTTYPE=image/jpeg:https://www.ericbyrdtrio.com/wp-content/uploads/2025/11/Paul-Carr.jpg
END:VEVENT
END:VCALENDAR