BEGIN:VCALENDAR
VERSION:2.0
PRODID:-//Eric Byrd Trio - ECPv6.15.20//NONSGML v1.0//EN
CALSCALE:GREGORIAN
METHOD:PUBLISH
X-WR-CALNAME:Eric Byrd Trio
X-ORIGINAL-URL:https://www.ericbyrdtrio.com
X-WR-CALDESC:Events for Eric Byrd Trio
REFRESH-INTERVAL;VALUE=DURATION:PT1H
X-Robots-Tag:noindex
X-PUBLISHED-TTL:PT1H
BEGIN:VTIMEZONE
TZID:America/New_York
BEGIN:DAYLIGHT
TZOFFSETFROM:-0500
TZOFFSETTO:-0400
TZNAME:EDT
DTSTART:20230312T070000
END:DAYLIGHT
BEGIN:STANDARD
TZOFFSETFROM:-0400
TZOFFSETTO:-0500
TZNAME:EST
DTSTART:20231105T060000
END:STANDARD
BEGIN:DAYLIGHT
TZOFFSETFROM:-0500
TZOFFSETTO:-0400
TZNAME:EDT
DTSTART:20240310T070000
END:DAYLIGHT
BEGIN:STANDARD
TZOFFSETFROM:-0400
TZOFFSETTO:-0500
TZNAME:EST
DTSTART:20241103T060000
END:STANDARD
BEGIN:DAYLIGHT
TZOFFSETFROM:-0500
TZOFFSETTO:-0400
TZNAME:EDT
DTSTART:20250309T070000
END:DAYLIGHT
BEGIN:STANDARD
TZOFFSETFROM:-0400
TZOFFSETTO:-0500
TZNAME:EST
DTSTART:20251102T060000
END:STANDARD
END:VTIMEZONE
BEGIN:VEVENT
DTSTART;TZID=America/New_York:20241220T190000
DTEND;TZID=America/New_York:20241220T203000
DTSTAMP:20260420T025536
CREATED:20240924T190733Z
LAST-MODIFIED:20240924T190733Z
UID:2007-1734721200-1734726600@www.ericbyrdtrio.com
SUMMARY:Charlie Brown Christmas: Milburn Stone Theater
DESCRIPTION:
URL:https://www.ericbyrdtrio.com/event/charlie-brown-christmas-milburn-stone-theater/
LOCATION:Milburn Stone Theatre\, 1 Seahawk Drive\, North East\, MD\, 21901\, United States
ATTACH;FMTTYPE=image/png:https://www.ericbyrdtrio.com/wp-content/uploads/2024/08/CB-Christmas-3.png
END:VEVENT
BEGIN:VEVENT
DTSTART;TZID=America/New_York:20241219T190000
DTEND;TZID=America/New_York:20241219T200000
DTSTAMP:20260420T025536
CREATED:20240914T140438Z
LAST-MODIFIED:20240914T140438Z
UID:1978-1734634800-1734638400@www.ericbyrdtrio.com
SUMMARY:Charlie Brown Christmas: Keystone Korner
DESCRIPTION:
URL:https://www.ericbyrdtrio.com/event/charlie-brown-christmas-keystone-korner/
LOCATION:Keystone Korner\, 1350 Lancaster Street\, Baltimore\, MD\, 21231\, United States
ATTACH;FMTTYPE=image/png:https://www.ericbyrdtrio.com/wp-content/uploads/2024/08/CB-Christmas-3.png
END:VEVENT
BEGIN:VEVENT
DTSTART;TZID=America/New_York:20241215T160000
DTEND;TZID=America/New_York:20241215T190000
DTSTAMP:20260420T025536
CREATED:20241003T221530Z
LAST-MODIFIED:20241003T221530Z
UID:2035-1734278400-1734289200@www.ericbyrdtrio.com
SUMMARY:Charlie Brown Christmas: Lirodendron Mansion
DESCRIPTION:2 Shows at 4pm & 7pm
URL:https://www.ericbyrdtrio.com/event/charlie-brown-christmas-lirodendron-mansion/
LOCATION:The Liriodendron Mansion\, 502 W Gordon Street\, Bel Air\, MD\, 21014\, United States
ATTACH;FMTTYPE=image/png:https://www.ericbyrdtrio.com/wp-content/uploads/2024/08/CB-Christmas-3.png
END:VEVENT
BEGIN:VEVENT
DTSTART;TZID=America/New_York:20241214T160000
DTEND;TZID=America/New_York:20241214T180000
DTSTAMP:20260420T025536
CREATED:20240924T185918Z
LAST-MODIFIED:20240924T185931Z
UID:2005-1734192000-1734199200@www.ericbyrdtrio.com
SUMMARY:Charlie Brown Christmas: Montpelier Arts Center
DESCRIPTION:
URL:https://www.ericbyrdtrio.com/event/charlie-brown-christmas-montpelier-arts-center/
LOCATION:Montpelier Arts Center\, 9652 Muirkirk Rd\, Laurel\, MD\, 20708\, United States
ATTACH;FMTTYPE=image/png:https://www.ericbyrdtrio.com/wp-content/uploads/2024/08/CB-Christmas-3.png
END:VEVENT
BEGIN:VEVENT
DTSTART;TZID=America/New_York:20241213T190000
DTEND;TZID=America/New_York:20241213T203000
DTSTAMP:20260420T025536
CREATED:20241002T014225Z
LAST-MODIFIED:20241002T014225Z
UID:2025-1734116400-1734121800@www.ericbyrdtrio.com
SUMMARY:Charlie Brown Christmas: Franklin Arts
DESCRIPTION:
URL:https://www.ericbyrdtrio.com/event/charlie-brown-christmas-franklin-arts/
LOCATION:Franklin Park Arts Center\, 36441 Blueridge View Lane\, Purcellville\, VA\, 20132\, United States
ATTACH;FMTTYPE=image/png:https://www.ericbyrdtrio.com/wp-content/uploads/2024/08/CB-Christmas-3.png
END:VEVENT
BEGIN:VEVENT
DTSTART;TZID=America/New_York:20241208T180000
DTEND;TZID=America/New_York:20241208T193000
DTSTAMP:20260420T025536
CREATED:20240924T184121Z
LAST-MODIFIED:20240924T184406Z
UID:1993-1733680800-1733686200@www.ericbyrdtrio.com
SUMMARY:Charlie Brown Christmas: Carroll Arts Center Sunday Show
DESCRIPTION:6pm
URL:https://www.ericbyrdtrio.com/event/charlie-brown-christmas-carroll-arts-center-saturday-2-shows/
LOCATION:Carroll Arts Council\, 91 W Main Street\, Westminster\, MD\, 21157\, United States
ATTACH;FMTTYPE=image/png:https://www.ericbyrdtrio.com/wp-content/uploads/2024/08/CB-Christmas-3.png
ORGANIZER;CN="Carroll Arts Center":MAILTO:info@CarrollCountyArtsCouncil.org
END:VEVENT
BEGIN:VEVENT
DTSTART;TZID=America/New_York:20241208T120000
DTEND;TZID=America/New_York:20241208T150000
DTSTAMP:20260420T025536
CREATED:20240924T184916Z
LAST-MODIFIED:20240924T184916Z
UID:2003-1733659200-1733670000@www.ericbyrdtrio.com
SUMMARY:Charlie Brown Christmas: Barns of Rose Hill Two Shows
DESCRIPTION:Noon & 2pm
URL:https://www.ericbyrdtrio.com/event/charlie-brown-christmas-barns-of-rose-hill-two-shows/
LOCATION:Barns of Rose Hill\, 95 Chalmers Court\, Berryville\, VA\, 22611\, United States
ATTACH;FMTTYPE=image/png:https://www.ericbyrdtrio.com/wp-content/uploads/2024/08/CB-Christmas-3.png
END:VEVENT
BEGIN:VEVENT
DTSTART;TZID=America/New_York:20241207T150000
DTEND;TZID=America/New_York:20241207T180000
DTSTAMP:20260420T025536
CREATED:20240924T184659Z
LAST-MODIFIED:20240924T184659Z
UID:2001-1733583600-1733594400@www.ericbyrdtrio.com
SUMMARY:Charlie Brown Christmas: Carroll Arts Center Two Shows
DESCRIPTION:
URL:https://www.ericbyrdtrio.com/event/charlie-brown-christmas-carroll-arts-center-two-shows/
LOCATION:Carroll Arts Council\, 91 W Main Street\, Westminster\, MD\, 21157\, United States
ATTACH;FMTTYPE=image/png:https://www.ericbyrdtrio.com/wp-content/uploads/2024/08/CB-Christmas-3.png
END:VEVENT
BEGIN:VEVENT
DTSTART;TZID=America/New_York:20241201T150000
DTEND;TZID=America/New_York:20241201T200000
DTSTAMP:20260420T025536
CREATED:20241030T125347Z
LAST-MODIFIED:20241030T125347Z
UID:2046-1733065200-1733083200@www.ericbyrdtrio.com
SUMMARY:Charlie Brown Christmas: Hamilton Live in DC
DESCRIPTION:2 shows
URL:https://www.ericbyrdtrio.com/event/charlie-brown-christmas-hamilton-live-in-dc/
LOCATION:The Hamilton Live\, 600 14th Street\, NW\, Washington\, DC\, 20005\, United States
ATTACH;FMTTYPE=image/png:https://www.ericbyrdtrio.com/wp-content/uploads/2024/08/CB-Christmas-3.png
END:VEVENT
BEGIN:VEVENT
DTSTART;TZID=America/New_York:20241130T153000
DTEND;TZID=America/New_York:20241130T170000
DTSTAMP:20260420T025537
CREATED:20240314T134342Z
LAST-MODIFIED:20240806T151514Z
UID:1824-1732980600-1732986000@www.ericbyrdtrio.com
SUMMARY:Charlie Brown Christmas
DESCRIPTION:
URL:https://www.ericbyrdtrio.com/event/charlie-brown-christmas/
LOCATION:The Episcopal Church of the Redeemer\, 6201 Dunrobbin Drive at Macarthur Blvd\, Bethesda\, MD\, 20816\, United States
ATTACH;FMTTYPE=image/png:https://www.ericbyrdtrio.com/wp-content/uploads/2024/03/CB.png
END:VEVENT
BEGIN:VEVENT
DTSTART;TZID=America/New_York:20241116T190000
DTEND;TZID=America/New_York:20241116T203000
DTSTAMP:20260420T025537
CREATED:20241009T123322Z
LAST-MODIFIED:20241009T123624Z
UID:2037-1731783600-1731789000@www.ericbyrdtrio.com
SUMMARY:November Jazz At the Mural Concert with The Eric Byrd Trio
DESCRIPTION:William Ledbetter\, bass \nDrums\, TBA
URL:https://www.ericbyrdtrio.com/event/november-jazz-at-the-mural-concert/
LOCATION:Jazz At The Mural\, 419 Race Street\, Cambridge\, MD\, 21613
ATTACH;FMTTYPE=image/png:https://www.ericbyrdtrio.com/wp-content/uploads/2024/10/EB-solo-at-the-piano.png
END:VEVENT
BEGIN:VEVENT
DTSTART;TZID=America/New_York:20241103T160000
DTEND;TZID=America/New_York:20241103T173000
DTSTAMP:20260420T025537
CREATED:20240103T022155Z
LAST-MODIFIED:20240827T171353Z
UID:1796-1730649600-1730655000@www.ericbyrdtrio.com
SUMMARY:Jazz Vespers Concert
DESCRIPTION:
URL:https://www.ericbyrdtrio.com/event/jazz-vespers-concert/
LOCATION:Culpeper Baptist Church\, 318 S. West Street\, Culpeper\, VA\, United States
ATTACH;FMTTYPE=image/png:https://www.ericbyrdtrio.com/wp-content/uploads/2024/01/saints-still-marching.png
END:VEVENT
BEGIN:VEVENT
DTSTART;TZID=America/New_York:20241010T170000
DTEND;TZID=America/New_York:20241010T200000
DTSTAMP:20260420T025537
CREATED:20240806T125401Z
LAST-MODIFIED:20240806T150615Z
UID:1952-1728579600-1728590400@www.ericbyrdtrio.com
SUMMARY:Rye Street Tavern
DESCRIPTION:
URL:https://www.ericbyrdtrio.com/event/rye-street-tavern-3/
LOCATION:Rye Street Tavern\, 225 E Cromwell Street\, Baltimore\, MD\, 21230\, United States
ATTACH;FMTTYPE=image/png:https://www.ericbyrdtrio.com/wp-content/uploads/2024/08/gray-1.png
END:VEVENT
BEGIN:VEVENT
DTSTART;TZID=America/New_York:20241005T134500
DTEND;TZID=America/New_York:20241005T154500
DTSTAMP:20260420T025537
CREATED:20240827T170743Z
LAST-MODIFIED:20240827T170743Z
UID:1970-1728135900-1728143100@www.ericbyrdtrio.com
SUMMARY:Taste of Bethesda
DESCRIPTION:The 32nd annual Taste of Bethesda is scheduled for Saturday\, October 5th from 11am – 4pm\, and will feature Bethesda’s best restaurants\, five stages of live entertainment\, an activity area for kids and more!  Located on Norfolk Avenue in Bethesda’s Woodmont Triangle
URL:https://www.ericbyrdtrio.com/event/taste-of-bethesda/
LOCATION:MD
ATTACH;FMTTYPE=image/png:https://www.ericbyrdtrio.com/wp-content/uploads/2024/08/pillars.png
END:VEVENT
BEGIN:VEVENT
DTSTART;TZID=America/New_York:20240928T180000
DTEND;TZID=America/New_York:20240928T190000
DTSTAMP:20260420T025537
CREATED:20240321T183357Z
LAST-MODIFIED:20240909T125025Z
UID:1827-1727546400-1727550000@www.ericbyrdtrio.com
SUMMARY:Concert
DESCRIPTION:
URL:https://www.ericbyrdtrio.com/event/concert-5/
LOCATION:Faith Chapel\, 14188 Chapel Lane\, Lucketts\, VA\, 20176\, United States
ATTACH;FMTTYPE=image/png:https://www.ericbyrdtrio.com/wp-content/uploads/2024/08/gray-1.png
END:VEVENT
BEGIN:VEVENT
DTSTART;TZID=America/New_York:20240913T170000
DTEND;TZID=America/New_York:20240913T200000
DTSTAMP:20260420T025537
CREATED:20240806T125218Z
LAST-MODIFIED:20240806T125218Z
UID:1949-1726246800-1726257600@www.ericbyrdtrio.com
SUMMARY:Rye Street Tavern
DESCRIPTION:
URL:https://www.ericbyrdtrio.com/event/rye-street-tavern/
LOCATION:Rye Street Tavern\, 225 E Cromwell Street\, Baltimore\, MD\, 21230\, United States
ATTACH;FMTTYPE=image/png:https://www.ericbyrdtrio.com/wp-content/uploads/2024/08/gray-1.png
END:VEVENT
BEGIN:VEVENT
DTSTART;TZID=America/New_York:20240907T162000
DTEND;TZID=America/New_York:20240907T165000
DTSTAMP:20260420T025537
CREATED:20240613T122615Z
LAST-MODIFIED:20240613T122615Z
UID:1878-1725726000-1725727800@www.ericbyrdtrio.com
SUMMARY:Silver Spring Jazz Festival
DESCRIPTION:side stage
URL:https://www.ericbyrdtrio.com/event/silver-spring-jazz-festival/
LOCATION:MD
ATTACH;FMTTYPE=image/png:https://www.ericbyrdtrio.com/wp-content/uploads/2016/04/EBT-3-big.png
END:VEVENT
BEGIN:VEVENT
DTSTART;TZID=America/New_York:20240804T130000
DTEND;TZID=America/New_York:20240804T134500
DTSTAMP:20260420T025537
CREATED:20240613T122226Z
LAST-MODIFIED:20240613T122226Z
UID:1875-1722776400-1722779100@www.ericbyrdtrio.com
SUMMARY:Artscape!
DESCRIPTION:MICA Stage
URL:https://www.ericbyrdtrio.com/event/artscape/
LOCATION:Artscape\, Baltimore\, MD\, United States
ATTACH;FMTTYPE=image/png:https://www.ericbyrdtrio.com/wp-content/uploads/2016/04/EBT-3-big.png
END:VEVENT
BEGIN:VEVENT
DTSTART;TZID=America/New_York:20240801T170000
DTEND;TZID=America/New_York:20240801T200000
DTSTAMP:20260420T025537
CREATED:20240613T121758Z
LAST-MODIFIED:20240613T121909Z
UID:1873-1722531600-1722542400@www.ericbyrdtrio.com
SUMMARY:Rye Street Tavern
DESCRIPTION:
URL:https://www.ericbyrdtrio.com/event/rye-street-tavern-2/
LOCATION:Rye Street Tavern\, 225 E Cromwell Street\, Baltimore\, MD\, 21230\, United States
ATTACH;FMTTYPE=image/png:https://www.ericbyrdtrio.com/wp-content/uploads/2016/04/EBT-3-big.png
END:VEVENT
BEGIN:VEVENT
DTSTART;TZID=America/New_York:20240720T150000
DTEND;TZID=America/New_York:20240720T160000
DTSTAMP:20260420T025537
CREATED:20240517T133800Z
LAST-MODIFIED:20240517T133800Z
UID:1861-1721487600-1721491200@www.ericbyrdtrio.com
SUMMARY:Jazz At The Kreeger
DESCRIPTION:
URL:https://www.ericbyrdtrio.com/event/jazz-at-the-kreeger/
LOCATION:Kreeger Museum\, 2401 Foxhall Rd NW\, Washington\, DC\, 20007\, United States
ATTACH;FMTTYPE=image/png:https://www.ericbyrdtrio.com/wp-content/uploads/2024/04/exit.png
END:VEVENT
BEGIN:VEVENT
DTSTART;TZID=America/New_York:20240630T190000
DTEND;TZID=America/New_York:20240630T200000
DTSTAMP:20260420T025537
CREATED:20240103T021825Z
LAST-MODIFIED:20240103T021825Z
UID:1794-1719774000-1719777600@www.ericbyrdtrio.com
SUMMARY:Concert
DESCRIPTION:
URL:https://www.ericbyrdtrio.com/event/concert/
LOCATION:Reston Town Square\, 12034 Town Square Street\, Reston\, VA\, United States
ATTACH;FMTTYPE=image/webp:https://www.ericbyrdtrio.com/wp-content/uploads/2023/05/jpeg-trio.webp
END:VEVENT
BEGIN:VEVENT
DTSTART;TZID=America/New_York:20240615T200000
DTEND;TZID=America/New_York:20240615T224500
DTSTAMP:20260420T025537
CREATED:20240613T121039Z
LAST-MODIFIED:20240613T121137Z
UID:1867-1718481600-1718491500@www.ericbyrdtrio.com
SUMMARY:Club Gig
DESCRIPTION:
URL:https://www.ericbyrdtrio.com/event/club-gig/
LOCATION:Fitgerald’s\, 1232 36th Street NW\, Washington\, DC\, United States
END:VEVENT
BEGIN:VEVENT
DTSTART;TZID=America/New_York:20240607T190000
DTEND;TZID=America/New_York:20240607T223000
DTSTAMP:20260420T025537
CREATED:20240517T132551Z
LAST-MODIFIED:20240517T132616Z
UID:1854-1717786800-1717799400@www.ericbyrdtrio.com
SUMMARY:Aaron Myers Live Recording @ Blues Alley with The Eric Byrd Trio
DESCRIPTION:2 Shows!
URL:https://www.ericbyrdtrio.com/event/aaron-myers-live-recording-blues-alley-with-the-eric-byrd-trio/
LOCATION:Blues Alley\, ​1073 REAR Wisconsin Ave NW\,\, Washington\, DC\, 20007\, United States
ATTACH;FMTTYPE=image/jpeg:https://www.ericbyrdtrio.com/wp-content/uploads/2016/04/IMG_7131-scaled.jpg
END:VEVENT
BEGIN:VEVENT
DTSTART;TZID=America/New_York:20240602T170000
DTEND;TZID=America/New_York:20240602T190000
DTSTAMP:20260420T025537
CREATED:20240517T133029Z
LAST-MODIFIED:20240517T133029Z
UID:1859-1717347600-1717354800@www.ericbyrdtrio.com
SUMMARY:Jam Session with The Eric Byrd Trio
DESCRIPTION:We’re the house band for the jam!
URL:https://www.ericbyrdtrio.com/event/jam-session-with-the-eric-byrd-trio/
LOCATION:Steinhardt Brewing\, 340 E Patrick Street Suite 100-102\, Frederick\, MD\, 21701\, United States
ATTACH;FMTTYPE=image/jpeg:https://www.ericbyrdtrio.com/wp-content/uploads/2023/05/EricByrdTrio.jpg
END:VEVENT
BEGIN:VEVENT
DTSTART;TZID=America/New_York:20240531T150000
DTEND;TZID=America/New_York:20240531T160000
DTSTAMP:20260420T025537
CREATED:20240311T232238Z
LAST-MODIFIED:20240518T003901Z
UID:1815-1717167600-1717171200@www.ericbyrdtrio.com
SUMMARY:Concert
DESCRIPTION:
URL:https://www.ericbyrdtrio.com/event/concert-3/
LOCATION:Carroll Lutheran Village\, 300 Saint Luke Circle\, Westminster\, MD\, 21158\, United States
ATTACH;FMTTYPE=image/jpeg:https://www.ericbyrdtrio.com/wp-content/uploads/2020/04/DSF2179-2-e1592228715653.jpg
END:VEVENT
BEGIN:VEVENT
DTSTART;TZID=America/New_York:20240519T190000
DTEND;TZID=America/New_York:20240519T210000
DTSTAMP:20260420T025537
CREATED:20240425T123537Z
LAST-MODIFIED:20240425T124612Z
UID:1842-1716145200-1716152400@www.ericbyrdtrio.com
SUMMARY:Hub City Vinyl with opening act Sunday Jazz Workshop Combo
DESCRIPTION:
URL:https://www.ericbyrdtrio.com/event/hub-city-vinyl-with-opening-act-sunday-jazz-workshop-combo/
LOCATION:Hub City Vinyl\, 28 E Baltimore Street\, Hagerstown\, MD\, 21740\, United States
ATTACH;FMTTYPE=image/png:https://www.ericbyrdtrio.com/wp-content/uploads/2024/04/mirror.png
END:VEVENT
BEGIN:VEVENT
DTSTART;TZID=America/New_York:20240518T160000
DTEND;TZID=America/New_York:20240518T180000
DTSTAMP:20260420T025537
CREATED:20240311T223236Z
LAST-MODIFIED:20240311T223236Z
UID:1812-1716048000-1716055200@www.ericbyrdtrio.com
SUMMARY:Iron Festival
DESCRIPTION:
URL:https://www.ericbyrdtrio.com/event/iron-festival/
LOCATION:The Iron Festival\, 12610 Catoctin Furnace Rd\, Thurmont\, MD\, United States
ATTACH;FMTTYPE=image/png:https://www.ericbyrdtrio.com/wp-content/uploads/2022/08/EBT-Events-images-1.png
END:VEVENT
BEGIN:VEVENT
DTSTART;TZID=America/New_York:20240512T103000
DTEND;TZID=America/New_York:20240512T150000
DTSTAMP:20260420T025537
CREATED:20240311T223038Z
LAST-MODIFIED:20240321T032407Z
UID:1810-1715509800-1715526000@www.ericbyrdtrio.com
SUMMARY:Mother's Day Brunch with The Eric Byrd Trio
DESCRIPTION:Two Shows at 1030a & 1pm \nKeep checking us and The Hamilton Live DC sites when tickets go on sale
URL:https://www.ericbyrdtrio.com/event/mothers-day-brunch-with-the-eric-byrd-trio/
LOCATION:The Hamilton Live\, 600 14th Street\, NW\, Washington\, DC\, 20005\, United States
ATTACH;FMTTYPE=image/webp:https://www.ericbyrdtrio.com/wp-content/uploads/2023/05/2023_02-2023_01EricByrdTrioStudioSession08065-Edit-1.webp
END:VEVENT
BEGIN:VEVENT
DTSTART;TZID=America/New_York:20240511T200000
DTEND;TZID=America/New_York:20240511T230000
DTSTAMP:20260420T025537
CREATED:20240425T123244Z
LAST-MODIFIED:20240425T123244Z
UID:1834-1715457600-1715468400@www.ericbyrdtrio.com
SUMMARY:Fitzgerald's
DESCRIPTION:
URL:https://www.ericbyrdtrio.com/event/fitzgeralds/
LOCATION:Fitzgerald’s\, 1232 36th Street NW\, Washington DC\, DC\, 20007\, United States
ATTACH;FMTTYPE=image/png:https://www.ericbyrdtrio.com/wp-content/uploads/2024/04/balcony.png
END:VEVENT
BEGIN:VEVENT
DTSTART;TZID=America/New_York:20240412T190000
DTEND;TZID=America/New_York:20240412T210000
DTSTAMP:20260420T025537
CREATED:20240311T222529Z
LAST-MODIFIED:20240311T222529Z
UID:1807-1712948400-1712955600@www.ericbyrdtrio.com
SUMMARY:Concert
DESCRIPTION:
URL:https://www.ericbyrdtrio.com/event/concert-2/
LOCATION:The Episcopal Church of the Redeemer\, 6201 Dunrobbin Drive at Macarthur Blvd\, Bethesda\, MD\, 20816\, United States
ATTACH;FMTTYPE=image/webp:https://www.ericbyrdtrio.com/wp-content/uploads/2023/05/jpeg-trio.webp
END:VEVENT
END:VCALENDAR