BEGIN:VCALENDAR
VERSION:2.0
PRODID:-//Eric Byrd Trio - ECPv6.15.20//NONSGML v1.0//EN
CALSCALE:GREGORIAN
METHOD:PUBLISH
X-WR-CALNAME:Eric Byrd Trio
X-ORIGINAL-URL:https://www.ericbyrdtrio.com
X-WR-CALDESC:Events for Eric Byrd Trio
REFRESH-INTERVAL;VALUE=DURATION:PT1H
X-Robots-Tag:noindex
X-PUBLISHED-TTL:PT1H
BEGIN:VTIMEZONE
TZID:America/New_York
BEGIN:DAYLIGHT
TZOFFSETFROM:-0500
TZOFFSETTO:-0400
TZNAME:EDT
DTSTART:20220313T070000
END:DAYLIGHT
BEGIN:STANDARD
TZOFFSETFROM:-0400
TZOFFSETTO:-0500
TZNAME:EST
DTSTART:20221106T060000
END:STANDARD
BEGIN:DAYLIGHT
TZOFFSETFROM:-0500
TZOFFSETTO:-0400
TZNAME:EDT
DTSTART:20230312T070000
END:DAYLIGHT
BEGIN:STANDARD
TZOFFSETFROM:-0400
TZOFFSETTO:-0500
TZNAME:EST
DTSTART:20231105T060000
END:STANDARD
BEGIN:DAYLIGHT
TZOFFSETFROM:-0500
TZOFFSETTO:-0400
TZNAME:EDT
DTSTART:20240310T070000
END:DAYLIGHT
BEGIN:STANDARD
TZOFFSETFROM:-0400
TZOFFSETTO:-0500
TZNAME:EST
DTSTART:20241103T060000
END:STANDARD
BEGIN:DAYLIGHT
TZOFFSETFROM:-0500
TZOFFSETTO:-0400
TZNAME:EDT
DTSTART:20250309T070000
END:DAYLIGHT
BEGIN:STANDARD
TZOFFSETFROM:-0400
TZOFFSETTO:-0500
TZNAME:EST
DTSTART:20251102T060000
END:STANDARD
END:VTIMEZONE
BEGIN:VEVENT
DTSTART;TZID=America/New_York:20240602T170000
DTEND;TZID=America/New_York:20240602T190000
DTSTAMP:20260419T234113
CREATED:20240517T133029Z
LAST-MODIFIED:20240517T133029Z
UID:1859-1717347600-1717354800@www.ericbyrdtrio.com
SUMMARY:Jam Session with The Eric Byrd Trio
DESCRIPTION:We’re the house band for the jam!
URL:https://www.ericbyrdtrio.com/event/jam-session-with-the-eric-byrd-trio/
LOCATION:Steinhardt Brewing\, 340 E Patrick Street Suite 100-102\, Frederick\, MD\, 21701\, United States
ATTACH;FMTTYPE=image/jpeg:https://www.ericbyrdtrio.com/wp-content/uploads/2023/05/EricByrdTrio.jpg
END:VEVENT
BEGIN:VEVENT
DTSTART;TZID=America/New_York:20240531T150000
DTEND;TZID=America/New_York:20240531T160000
DTSTAMP:20260419T234113
CREATED:20240311T232238Z
LAST-MODIFIED:20240518T003901Z
UID:1815-1717167600-1717171200@www.ericbyrdtrio.com
SUMMARY:Concert
DESCRIPTION:
URL:https://www.ericbyrdtrio.com/event/concert-3/
LOCATION:Carroll Lutheran Village\, 300 Saint Luke Circle\, Westminster\, MD\, 21158\, United States
ATTACH;FMTTYPE=image/jpeg:https://www.ericbyrdtrio.com/wp-content/uploads/2020/04/DSF2179-2-e1592228715653.jpg
END:VEVENT
BEGIN:VEVENT
DTSTART;TZID=America/New_York:20240519T190000
DTEND;TZID=America/New_York:20240519T210000
DTSTAMP:20260419T234113
CREATED:20240425T123537Z
LAST-MODIFIED:20240425T124612Z
UID:1842-1716145200-1716152400@www.ericbyrdtrio.com
SUMMARY:Hub City Vinyl with opening act Sunday Jazz Workshop Combo
DESCRIPTION:
URL:https://www.ericbyrdtrio.com/event/hub-city-vinyl-with-opening-act-sunday-jazz-workshop-combo/
LOCATION:Hub City Vinyl\, 28 E Baltimore Street\, Hagerstown\, MD\, 21740\, United States
ATTACH;FMTTYPE=image/png:https://www.ericbyrdtrio.com/wp-content/uploads/2024/04/mirror.png
END:VEVENT
BEGIN:VEVENT
DTSTART;TZID=America/New_York:20240518T160000
DTEND;TZID=America/New_York:20240518T180000
DTSTAMP:20260419T234113
CREATED:20240311T223236Z
LAST-MODIFIED:20240311T223236Z
UID:1812-1716048000-1716055200@www.ericbyrdtrio.com
SUMMARY:Iron Festival
DESCRIPTION:
URL:https://www.ericbyrdtrio.com/event/iron-festival/
LOCATION:The Iron Festival\, 12610 Catoctin Furnace Rd\, Thurmont\, MD\, United States
ATTACH;FMTTYPE=image/png:https://www.ericbyrdtrio.com/wp-content/uploads/2022/08/EBT-Events-images-1.png
END:VEVENT
BEGIN:VEVENT
DTSTART;TZID=America/New_York:20240512T103000
DTEND;TZID=America/New_York:20240512T150000
DTSTAMP:20260419T234113
CREATED:20240311T223038Z
LAST-MODIFIED:20240321T032407Z
UID:1810-1715509800-1715526000@www.ericbyrdtrio.com
SUMMARY:Mother's Day Brunch with The Eric Byrd Trio
DESCRIPTION:Two Shows at 1030a & 1pm \nKeep checking us and The Hamilton Live DC sites when tickets go on sale
URL:https://www.ericbyrdtrio.com/event/mothers-day-brunch-with-the-eric-byrd-trio/
LOCATION:The Hamilton Live\, 600 14th Street\, NW\, Washington\, DC\, 20005\, United States
ATTACH;FMTTYPE=image/webp:https://www.ericbyrdtrio.com/wp-content/uploads/2023/05/2023_02-2023_01EricByrdTrioStudioSession08065-Edit-1.webp
END:VEVENT
BEGIN:VEVENT
DTSTART;TZID=America/New_York:20240511T200000
DTEND;TZID=America/New_York:20240511T230000
DTSTAMP:20260419T234113
CREATED:20240425T123244Z
LAST-MODIFIED:20240425T123244Z
UID:1834-1715457600-1715468400@www.ericbyrdtrio.com
SUMMARY:Fitzgerald's
DESCRIPTION:
URL:https://www.ericbyrdtrio.com/event/fitzgeralds/
LOCATION:Fitzgerald’s\, 1232 36th Street NW\, Washington DC\, DC\, 20007\, United States
ATTACH;FMTTYPE=image/png:https://www.ericbyrdtrio.com/wp-content/uploads/2024/04/balcony.png
END:VEVENT
BEGIN:VEVENT
DTSTART;TZID=America/New_York:20240412T190000
DTEND;TZID=America/New_York:20240412T210000
DTSTAMP:20260419T234113
CREATED:20240311T222529Z
LAST-MODIFIED:20240311T222529Z
UID:1807-1712948400-1712955600@www.ericbyrdtrio.com
SUMMARY:Concert
DESCRIPTION:
URL:https://www.ericbyrdtrio.com/event/concert-2/
LOCATION:The Episcopal Church of the Redeemer\, 6201 Dunrobbin Drive at Macarthur Blvd\, Bethesda\, MD\, 20816\, United States
ATTACH;FMTTYPE=image/webp:https://www.ericbyrdtrio.com/wp-content/uploads/2023/05/jpeg-trio.webp
END:VEVENT
BEGIN:VEVENT
DTSTART;TZID=America/New_York:20240218T170000
DTEND;TZID=America/New_York:20240218T190000
DTSTAMP:20260419T234113
CREATED:20231221T171929Z
LAST-MODIFIED:20231221T171929Z
UID:1790-1708275600-1708282800@www.ericbyrdtrio.com
SUMMARY:Jazz Jam Sunday Sessions
DESCRIPTION:
URL:https://www.ericbyrdtrio.com/event/jazz-jam-sunday-sessions-4/
LOCATION:Steinhardt Brewing\, 340 E Patrick Street Suite 100-102\, Frederick\, MD\, 21701\, United States
ATTACH;FMTTYPE=image/png:https://www.ericbyrdtrio.com/wp-content/uploads/2023/12/jazz-jams.png
END:VEVENT
BEGIN:VEVENT
DTSTART;TZID=America/New_York:20240214T193000
DTEND;TZID=America/New_York:20240214T210000
DTSTAMP:20260419T234113
CREATED:20240113T140540Z
LAST-MODIFIED:20240113T140540Z
UID:1800-1707939000-1707944400@www.ericbyrdtrio.com
SUMMARY:Valentine's Day Concert
DESCRIPTION:
URL:https://www.ericbyrdtrio.com/event/valentines-day-concert/
LOCATION:The Collective Encore\, 10221 Wincopin Circle\, Columbia\, MD\, 21044\, United States
ATTACH;FMTTYPE=image/jpeg:https://www.ericbyrdtrio.com/wp-content/uploads/2023/05/EricByrdTrio.jpg
END:VEVENT
BEGIN:VEVENT
DTSTART;TZID=America/New_York:20240209T190000
DTEND;TZID=America/New_York:20240209T190000
DTSTAMP:20260419T234113
CREATED:20231129T010824Z
LAST-MODIFIED:20231129T010839Z
UID:1747-1707505200-1707505200@www.ericbyrdtrio.com
SUMMARY:An Evening with The Eric Byrd Trio
DESCRIPTION:
URL:https://www.ericbyrdtrio.com/event/an-evening-with-the-eric-byrd-trio/
LOCATION:Milburn Stone Theatre\, 1 Seahawk Drive\, North East\, MD\, 21901\, United States
ATTACH;FMTTYPE=image/png:https://www.ericbyrdtrio.com/wp-content/uploads/2023/11/presidential-photo.png
END:VEVENT
BEGIN:VEVENT
DTSTART;TZID=America/New_York:20240204T170000
DTEND;TZID=America/New_York:20240204T190000
DTSTAMP:20260419T234113
CREATED:20231221T171518Z
LAST-MODIFIED:20231221T171518Z
UID:1786-1707066000-1707073200@www.ericbyrdtrio.com
SUMMARY:Jazz Jam Sunday Sessions
DESCRIPTION:
URL:https://www.ericbyrdtrio.com/event/jazz-jam-sunday-sessions-2/
LOCATION:Steinhardt Brewing\, 340 E Patrick Street Suite 100-102\, Frederick\, MD\, 21701\, United States
ATTACH;FMTTYPE=image/png:https://www.ericbyrdtrio.com/wp-content/uploads/2023/12/jazz-jams.png
END:VEVENT
BEGIN:VEVENT
DTSTART;TZID=America/New_York:20240121T170000
DTEND;TZID=America/New_York:20240121T190000
DTSTAMP:20260419T234113
CREATED:20231129T010654Z
LAST-MODIFIED:20231221T171802Z
UID:1743-1705856400-1705863600@www.ericbyrdtrio.com
SUMMARY:Jazz Jam Sunday Sessions
DESCRIPTION:
URL:https://www.ericbyrdtrio.com/event/jazz-jam-sunday-sessions-3/
LOCATION:Steinhardt Brewing\, 340 E Patrick Street Suite 100-102\, Frederick\, MD\, 21701\, United States
ATTACH;FMTTYPE=image/png:https://www.ericbyrdtrio.com/wp-content/uploads/2023/12/jazz-jams.png
END:VEVENT
BEGIN:VEVENT
DTSTART;TZID=America/New_York:20240107T170000
DTEND;TZID=America/New_York:20240107T190000
DTSTAMP:20260419T234113
CREATED:20231129T010521Z
LAST-MODIFIED:20231221T171719Z
UID:1739-1704646800-1704654000@www.ericbyrdtrio.com
SUMMARY:Jazz Jam Sunday Sessions
DESCRIPTION:
URL:https://www.ericbyrdtrio.com/event/jazz-jam-sunday-sessions/
LOCATION:Steinhardt Brewing\, 340 E Patrick Street Suite 100-102\, Frederick\, MD\, 21701\, United States
ATTACH;FMTTYPE=image/png:https://www.ericbyrdtrio.com/wp-content/uploads/2023/12/jazz-jams.png
END:VEVENT
BEGIN:VEVENT
DTSTART;TZID=America/New_York:20231230T190000
DTEND;TZID=America/New_York:20231230T203000
DTSTAMP:20260419T234113
CREATED:20231202T212248Z
LAST-MODIFIED:20231202T212248Z
UID:1764-1703962800-1703968200@www.ericbyrdtrio.com
SUMMARY:Concert at The Historic Avalon Theater
DESCRIPTION:
URL:https://www.ericbyrdtrio.com/event/concert-at-the-historic-avalon-theater/
LOCATION:The Avalon Theater\, 40 E Dover Street\, Easton\, MD\, 21601\, United States
ATTACH;FMTTYPE=image/png:https://www.ericbyrdtrio.com/wp-content/uploads/2023/03/Untitled-design-29-1.png
END:VEVENT
BEGIN:VEVENT
DTSTART;TZID=America/New_York:20231223T200000
DTEND;TZID=America/New_York:20231223T210000
DTSTAMP:20260419T234114
CREATED:20231129T010404Z
LAST-MODIFIED:20231129T010404Z
UID:1737-1703361600-1703365200@www.ericbyrdtrio.com
SUMMARY:Charlie Brown Weinberg
DESCRIPTION:
URL:https://www.ericbyrdtrio.com/event/charlie-brown-weinberg/
LOCATION:Weinberg Center for Performing Arts\, 20 W Patrick Street\, Frederick\, MD\, 21701\, United States
ATTACH;FMTTYPE=image/png:https://www.ericbyrdtrio.com/wp-content/uploads/2023/08/CB-christmas.png
END:VEVENT
BEGIN:VEVENT
DTSTART;TZID=America/New_York:20231222T190000
DTEND;TZID=America/New_York:20231222T200000
DTSTAMP:20260419T234114
CREATED:20231129T010240Z
LAST-MODIFIED:20231129T010255Z
UID:1735-1703271600-1703275200@www.ericbyrdtrio.com
SUMMARY:Charlie Brown Virginia
DESCRIPTION:Tickets Available at Franklin Park Arts Center 36441 Blueridge View Lane Purcellville\, VA 20132
URL:https://www.ericbyrdtrio.com/event/charlie-brown-virginia/
LOCATION:Franklin Park Arts Center\, 36441 Blueridge View Lane\, Purcellville\, VA\, 20132\, United States
ATTACH;FMTTYPE=image/png:https://www.ericbyrdtrio.com/wp-content/uploads/2023/08/CB-christmas.png
END:VEVENT
BEGIN:VEVENT
DTSTART;TZID=America/New_York:20231217T180000
DTEND;TZID=America/New_York:20231217T180000
DTSTAMP:20260419T234114
CREATED:20231129T010103Z
LAST-MODIFIED:20231129T010120Z
UID:1733-1702836000-1702836000@www.ericbyrdtrio.com
SUMMARY:Charlie Brown Carroll Arts Westminster
DESCRIPTION:
URL:https://www.ericbyrdtrio.com/event/charlie-brown-carroll-arts-westminster-2/
LOCATION:Carroll Arts Council\, 91 W Main Street\, Westminster\, MD\, 21157\, United States
ATTACH;FMTTYPE=image/png:https://www.ericbyrdtrio.com/wp-content/uploads/2023/07/Events-images-on-trio-webpage.png
END:VEVENT
BEGIN:VEVENT
DTSTART;TZID=America/New_York:20231217T110000
DTEND;TZID=America/New_York:20231217T130000
DTSTAMP:20260419T234114
CREATED:20231129T005729Z
LAST-MODIFIED:20231129T010955Z
UID:1729-1702810800-1702818000@www.ericbyrdtrio.com
SUMMARY:The Collective Encore Brunch with The Eric Byrd Trio
DESCRIPTION:
URL:https://www.ericbyrdtrio.com/event/the-collective-encore-brunch-with-the-eric-byrd-trio/
LOCATION:The Collective Encore\, 10221 Wincopin Circle\, Columbia\, MD\, 21044\, United States
ATTACH;FMTTYPE=image/webp:https://www.ericbyrdtrio.com/wp-content/uploads/2023/05/2023_02-2023_01EricByrdTrioStudioSession08065-Edit-1.webp
END:VEVENT
BEGIN:VEVENT
DTSTART;TZID=America/New_York:20231216T160000
DTEND;TZID=America/New_York:20231216T190000
DTSTAMP:20260419T234114
CREATED:20231129T005636Z
LAST-MODIFIED:20231129T010003Z
UID:1727-1702742400-1702753200@www.ericbyrdtrio.com
SUMMARY:Charlie Brown Carroll Arts Westminster
DESCRIPTION:
URL:https://www.ericbyrdtrio.com/event/charlie-brown-carroll-arts-westminster/
LOCATION:Carroll Arts Council\, 91 W Main Street\, Westminster\, MD\, 21157\, United States
ATTACH;FMTTYPE=image/png:https://www.ericbyrdtrio.com/wp-content/uploads/2023/07/Events-images-on-trio-webpage.png
END:VEVENT
BEGIN:VEVENT
DTSTART;TZID=America/New_York:20231210T190000
DTEND;TZID=America/New_York:20231210T203000
DTSTAMP:20260419T234114
CREATED:20231204T200414Z
LAST-MODIFIED:20231205T131356Z
UID:1771-1702234800-1702240200@www.ericbyrdtrio.com
SUMMARY:Charlie Brown at Montpelier
DESCRIPTION:Call for Ticket information
URL:https://www.ericbyrdtrio.com/event/charlie-brown-at-montpelier/
LOCATION:Montpelier Arts Center\, 9652 Muirkirk Rd\, Laurel\, MD\, 20708\, United States
ATTACH;FMTTYPE=image/png:https://www.ericbyrdtrio.com/wp-content/uploads/2023/07/Events-images-on-trio-webpage.png
END:VEVENT
BEGIN:VEVENT
DTSTART;TZID=America/New_York:20231209T160000
DTEND;TZID=America/New_York:20231209T190000
DTSTAMP:20260419T234114
CREATED:20231129T005531Z
LAST-MODIFIED:20231129T005936Z
UID:1725-1702137600-1702148400@www.ericbyrdtrio.com
SUMMARY:Charlie Brown at the Mansion 2 Shows
DESCRIPTION:
URL:https://www.ericbyrdtrio.com/event/charlie-brown-at-the-mansion-2-shows/
LOCATION:The Liriodendron Mansion\, 502 W Gordon Street\, Bel Air\, MD\, 21014\, United States
ATTACH;FMTTYPE=image/png:https://www.ericbyrdtrio.com/wp-content/uploads/2023/08/CB-christmas.png
END:VEVENT
BEGIN:VEVENT
DTSTART;TZID=America/New_York:20231208T200000
DTEND;TZID=America/New_York:20231208T200000
DTSTAMP:20260419T234114
CREATED:20231129T005428Z
LAST-MODIFIED:20231129T005913Z
UID:1723-1702065600-1702065600@www.ericbyrdtrio.com
SUMMARY:Charlie Brown Hub City Vinyl Hagerstown
DESCRIPTION:
URL:https://www.ericbyrdtrio.com/event/charlie-brown-hub-city-vinyl-hagerstown/
LOCATION:Hub City Vinyl\, 28 E Baltimore Street\, Hagerstown\, MD\, 21740\, United States
ATTACH;FMTTYPE=image/png:https://www.ericbyrdtrio.com/wp-content/uploads/2023/07/Events-images-on-trio-webpage.png
END:VEVENT
BEGIN:VEVENT
DTSTART;TZID=America/New_York:20231203T170000
DTEND;TZID=America/New_York:20231203T190000
DTSTAMP:20260419T234114
CREATED:20231129T005331Z
LAST-MODIFIED:20231129T005853Z
UID:1721-1701622800-1701630000@www.ericbyrdtrio.com
SUMMARY:Charlie Brown Keystone Korner TWO SHOWS!
DESCRIPTION:Purchase tickets for 5pm and 7pm in person and Live Stream
URL:https://www.ericbyrdtrio.com/event/charlie-brown-keystone-korner-two-shows/
LOCATION:Keystone Korner\, 1350 Lancaster Street\, Baltimore\, MD\, 21231\, United States
ATTACH;FMTTYPE=image/png:https://www.ericbyrdtrio.com/wp-content/uploads/2023/07/Events-images-on-trio-webpage.png
END:VEVENT
BEGIN:VEVENT
DTSTART;TZID=America/New_York:20231202T160000
DTEND;TZID=America/New_York:20231202T190000
DTSTAMP:20260419T234114
CREATED:20231129T005159Z
LAST-MODIFIED:20231129T005829Z
UID:1719-1701532800-1701543600@www.ericbyrdtrio.com
SUMMARY:Charlie Brown Berryville\, VA 2 Shows
DESCRIPTION:
URL:https://www.ericbyrdtrio.com/event/charlie-brown-berryville-va-2-shows/
LOCATION:Barns of Rose Hill\, 95 Chalmers Court\, Berryville\, VA\, 22611\, United States
ATTACH;FMTTYPE=image/png:https://www.ericbyrdtrio.com/wp-content/uploads/2023/08/CB-christmas.png
END:VEVENT
BEGIN:VEVENT
DTSTART;TZID=America/New_York:20231129T170000
DTEND;TZID=America/New_York:20231129T210000
DTSTAMP:20260419T234114
CREATED:20231129T133818Z
LAST-MODIFIED:20231129T133818Z
UID:1752-1701277200-1701291600@www.ericbyrdtrio.com
SUMMARY:Solo Piano Jazz
DESCRIPTION:
URL:https://www.ericbyrdtrio.com/event/solo-piano-jazz/
LOCATION:The Oregon Grille\, 1201 Shawan Road\, Hunt Valley\, MD\, 21030\, United States
ATTACH;FMTTYPE=image/png:https://www.ericbyrdtrio.com/wp-content/uploads/2023/09/eb-solo-piano.png
END:VEVENT
END:VCALENDAR