BEGIN:VCALENDAR
VERSION:2.0
PRODID:-//Eric Byrd Trio - ECPv6.15.20//NONSGML v1.0//EN
CALSCALE:GREGORIAN
METHOD:PUBLISH
X-WR-CALNAME:Eric Byrd Trio
X-ORIGINAL-URL:https://www.ericbyrdtrio.com
X-WR-CALDESC:Events for Eric Byrd Trio
REFRESH-INTERVAL;VALUE=DURATION:PT1H
X-Robots-Tag:noindex
X-PUBLISHED-TTL:PT1H
BEGIN:VTIMEZONE
TZID:America/New_York
BEGIN:DAYLIGHT
TZOFFSETFROM:-0500
TZOFFSETTO:-0400
TZNAME:EDT
DTSTART:20240310T070000
END:DAYLIGHT
BEGIN:STANDARD
TZOFFSETFROM:-0400
TZOFFSETTO:-0500
TZNAME:EST
DTSTART:20241103T060000
END:STANDARD
BEGIN:DAYLIGHT
TZOFFSETFROM:-0500
TZOFFSETTO:-0400
TZNAME:EDT
DTSTART:20250309T070000
END:DAYLIGHT
BEGIN:STANDARD
TZOFFSETFROM:-0400
TZOFFSETTO:-0500
TZNAME:EST
DTSTART:20251102T060000
END:STANDARD
BEGIN:DAYLIGHT
TZOFFSETFROM:-0500
TZOFFSETTO:-0400
TZNAME:EDT
DTSTART:20260308T070000
END:DAYLIGHT
BEGIN:STANDARD
TZOFFSETFROM:-0400
TZOFFSETTO:-0500
TZNAME:EST
DTSTART:20261101T060000
END:STANDARD
END:VTIMEZONE
BEGIN:VEVENT
DTSTART;TZID=America/New_York:20250104T140000
DTEND;TZID=America/New_York:20250104T170000
DTSTAMP:20260419T114718
CREATED:20241217T033442Z
LAST-MODIFIED:20241217T033442Z
UID:2068-1735999200-1736010000@www.ericbyrdtrio.com
SUMMARY:Solo Jazz Piano
DESCRIPTION:
URL:https://www.ericbyrdtrio.com/event/solo-jazz-piano/
LOCATION:Island Green\, 1199 South Pleasant Valley Rd\, Westminster\, 21158
ATTACH;FMTTYPE=image/png:https://www.ericbyrdtrio.com/wp-content/uploads/2024/10/EB-solo-at-the-piano.png
END:VEVENT
BEGIN:VEVENT
DTSTART;TZID=America/New_York:20250125T173000
DTEND;TZID=America/New_York:20250125T193000
DTSTAMP:20260419T114718
CREATED:20241217T034119Z
LAST-MODIFIED:20250116T171921Z
UID:2072-1737826200-1737833400@www.ericbyrdtrio.com
SUMMARY:Concert
DESCRIPTION:
URL:https://www.ericbyrdtrio.com/event/concert-4/
LOCATION:Academy Art Museum\, 106 South St\, Easton\, MD\, 21601\, United States
ATTACH;FMTTYPE=image/png:https://www.ericbyrdtrio.com/wp-content/uploads/2024/08/gray-1.png
END:VEVENT
END:VCALENDAR