BEGIN:VCALENDAR
VERSION:2.0
PRODID:-//Eric Byrd Trio - ECPv6.15.20//NONSGML v1.0//EN
CALSCALE:GREGORIAN
METHOD:PUBLISH
X-ORIGINAL-URL:https://www.ericbyrdtrio.com
X-WR-CALDESC:Events for Eric Byrd Trio
REFRESH-INTERVAL;VALUE=DURATION:PT1H
X-Robots-Tag:noindex
X-PUBLISHED-TTL:PT1H
BEGIN:VTIMEZONE
TZID:America/New_York
BEGIN:DAYLIGHT
TZOFFSETFROM:-0500
TZOFFSETTO:-0400
TZNAME:EDT
DTSTART:20240310T070000
END:DAYLIGHT
BEGIN:STANDARD
TZOFFSETFROM:-0400
TZOFFSETTO:-0500
TZNAME:EST
DTSTART:20241103T060000
END:STANDARD
BEGIN:DAYLIGHT
TZOFFSETFROM:-0500
TZOFFSETTO:-0400
TZNAME:EDT
DTSTART:20250309T070000
END:DAYLIGHT
BEGIN:STANDARD
TZOFFSETFROM:-0400
TZOFFSETTO:-0500
TZNAME:EST
DTSTART:20251102T060000
END:STANDARD
BEGIN:DAYLIGHT
TZOFFSETFROM:-0500
TZOFFSETTO:-0400
TZNAME:EDT
DTSTART:20260308T070000
END:DAYLIGHT
BEGIN:STANDARD
TZOFFSETFROM:-0400
TZOFFSETTO:-0500
TZNAME:EST
DTSTART:20261101T060000
END:STANDARD
END:VTIMEZONE
BEGIN:VEVENT
DTSTART;TZID=America/New_York:20250202T170000
DTEND;TZID=America/New_York:20250202T190000
DTSTAMP:20260419T101858
CREATED:20250103T003404Z
LAST-MODIFIED:20250103T003404Z
UID:2082-1738515600-1738522800@www.ericbyrdtrio.com
SUMMARY:Jam Session at Stenhardt!
DESCRIPTION:
URL:https://www.ericbyrdtrio.com/event/jam-session-at-stenhardt/
LOCATION:Steinhardt Brewing\, 340 E Patrick Street Suite 100-102\, Frederick\, MD\, 21701\, United States
ATTACH;FMTTYPE=image/png:https://www.ericbyrdtrio.com/wp-content/uploads/2023/12/jazz-jams.png
END:VEVENT
BEGIN:VEVENT
DTSTART;TZID=America/New_York:20250216T170000
DTEND;TZID=America/New_York:20250216T190000
DTSTAMP:20260419T101858
CREATED:20250103T003604Z
LAST-MODIFIED:20250103T003604Z
UID:2084-1739725200-1739732400@www.ericbyrdtrio.com
SUMMARY:Jam Session at Steinhardt
DESCRIPTION:
URL:https://www.ericbyrdtrio.com/event/jam-session-at-steinhardt/
LOCATION:Steinhardt Brewing\, 340 E Patrick Street Suite 100-102\, Frederick\, MD\, 21701\, United States
ATTACH;FMTTYPE=image/png:https://www.ericbyrdtrio.com/wp-content/uploads/2023/12/jazz-jams.png
END:VEVENT
BEGIN:VEVENT
DTSTART;TZID=America/New_York:20250218T080000
DTEND;TZID=America/New_York:20250218T170000
DTSTAMP:20260419T101858
CREATED:20250110T182653Z
LAST-MODIFIED:20250110T182653Z
UID:2087-1739865600-1739898000@www.ericbyrdtrio.com
SUMMARY:Herm Hopkins with The Eric Byrd Trio
DESCRIPTION:2 Shows \n7p & 930p
URL:https://www.ericbyrdtrio.com/event/herm-hopkins-with-the-eric-byrd-trio/
LOCATION:Blues Alley\, ​1073 REAR Wisconsin Ave NW\,\, Washington\, DC\, 20007\, United States
ATTACH;FMTTYPE=image/jpeg:https://www.ericbyrdtrio.com/wp-content/uploads/2025/01/blues-alley.jpeg
END:VEVENT
BEGIN:VEVENT
DTSTART;TZID=America/New_York:20250222T183000
DTEND;TZID=America/New_York:20250222T203000
DTSTAMP:20260419T101859
CREATED:20240425T124441Z
LAST-MODIFIED:20240806T152027Z
UID:1847-1740249000-1740256200@www.ericbyrdtrio.com
SUMMARY:Jazz at the Wesley
DESCRIPTION:
URL:https://www.ericbyrdtrio.com/event/jazz-at-the-wesley/
LOCATION:Jazz at the Wesley\, Wesley Campus National UMC\, Washington DC NW\, DC\, 20015\, United States
ATTACH;FMTTYPE=image/png:https://www.ericbyrdtrio.com/wp-content/uploads/2024/04/Will-trio.png
END:VEVENT
END:VCALENDAR