BEGIN:VCALENDAR
VERSION:2.0
PRODID:-//Eric Byrd Trio - ECPv6.15.20//NONSGML v1.0//EN
CALSCALE:GREGORIAN
METHOD:PUBLISH
X-ORIGINAL-URL:https://www.ericbyrdtrio.com
X-WR-CALDESC:Events for Eric Byrd Trio
REFRESH-INTERVAL;VALUE=DURATION:PT1H
X-Robots-Tag:noindex
X-PUBLISHED-TTL:PT1H
BEGIN:VTIMEZONE
TZID:America/New_York
BEGIN:DAYLIGHT
TZOFFSETFROM:-0500
TZOFFSETTO:-0400
TZNAME:EDT
DTSTART:20250309T070000
END:DAYLIGHT
BEGIN:STANDARD
TZOFFSETFROM:-0400
TZOFFSETTO:-0500
TZNAME:EST
DTSTART:20251102T060000
END:STANDARD
BEGIN:DAYLIGHT
TZOFFSETFROM:-0500
TZOFFSETTO:-0400
TZNAME:EDT
DTSTART:20260308T070000
END:DAYLIGHT
BEGIN:STANDARD
TZOFFSETFROM:-0400
TZOFFSETTO:-0500
TZNAME:EST
DTSTART:20261101T060000
END:STANDARD
BEGIN:DAYLIGHT
TZOFFSETFROM:-0500
TZOFFSETTO:-0400
TZNAME:EDT
DTSTART:20270314T070000
END:DAYLIGHT
BEGIN:STANDARD
TZOFFSETFROM:-0400
TZOFFSETTO:-0500
TZNAME:EST
DTSTART:20271107T060000
END:STANDARD
END:VTIMEZONE
BEGIN:VEVENT
DTSTART;TZID=America/New_York:20260502T120000
DTEND;TZID=America/New_York:20260502T130000
DTSTAMP:20260419T155301
CREATED:20260319T114451Z
LAST-MODIFIED:20260408T215758Z
UID:3212-1777723200-1777726800@www.ericbyrdtrio.com
SUMMARY:Concert
DESCRIPTION:History of Jazz Performance to celebrate 250 Years
URL:https://www.ericbyrdtrio.com/event/concert-19/
LOCATION:Glen Echo Park Spanish Ballroom\, 7300 MacArthur Blvd\, Glen Echo\, Maryland\, 20812
ATTACH;FMTTYPE=image/jpeg:https://www.ericbyrdtrio.com/wp-content/uploads/2026/03/Eric-Bryd-Trio-40.jpg
END:VEVENT
BEGIN:VEVENT
DTSTART;TZID=America/New_York:20260510T140000
DTEND;TZID=America/New_York:20260510T160000
DTSTAMP:20260419T155301
CREATED:20260409T010646Z
LAST-MODIFIED:20260409T010659Z
UID:3252-1778421600-1778428800@www.ericbyrdtrio.com
SUMMARY:Mother's Day Brunch
DESCRIPTION:
URL:https://www.ericbyrdtrio.com/event/mothers-day-brunch/
LOCATION:The Hamilton Live\, 600 14th Street\, NW\, Washington\, DC\, 20005\, United States
ATTACH;FMTTYPE=image/jpeg:https://www.ericbyrdtrio.com/wp-content/uploads/2025/04/hamiltondc.jpeg
END:VEVENT
BEGIN:VEVENT
DTSTART;TZID=America/New_York:20260517T140000
DTEND;TZID=America/New_York:20260517T160000
DTSTAMP:20260419T155301
CREATED:20260226T131224Z
LAST-MODIFIED:20260409T010726Z
UID:3198-1779026400-1779033600@www.ericbyrdtrio.com
SUMMARY:Gig at the Maryland Iron Festival
DESCRIPTION:Outdoor Festival
URL:https://www.ericbyrdtrio.com/event/gig-at-the-maryland-iron-festival/
LOCATION:12610 Catoctin Furnace Road\, 12610 Catoctin Furnace Road\, Thurmont\, Maryland
ATTACH;FMTTYPE=image/jpeg:https://www.ericbyrdtrio.com/wp-content/uploads/2025/06/Eric-Bryd-Trio-2.jpg
END:VEVENT
BEGIN:VEVENT
DTSTART;TZID=America/New_York:20260517T170000
DTEND;TZID=America/New_York:20260517T190000
DTSTAMP:20260419T155301
CREATED:20260409T011159Z
LAST-MODIFIED:20260409T011216Z
UID:3254-1779037200-1779044400@www.ericbyrdtrio.com
SUMMARY:Steinhardt Jazz Jam House Band
DESCRIPTION:The Trio is the house band at the Steinhardt Jazz Jam.  Bring your horn or voice and join!
URL:https://www.ericbyrdtrio.com/event/steinhardt-jazz-jam-house-band/
LOCATION:Virginia
ATTACH;FMTTYPE=image/jpeg:https://www.ericbyrdtrio.com/wp-content/uploads/2026/04/jam.jpg
END:VEVENT
BEGIN:VEVENT
DTSTART;TZID=America/New_York:20260529T190000
DTEND;TZID=America/New_York:20260529T200000
DTSTAMP:20260419T155301
CREATED:20260107T025005Z
LAST-MODIFIED:20260415T023955Z
UID:3109-1780081200-1780084800@www.ericbyrdtrio.com
SUMMARY:Concert
DESCRIPTION:The Trio returns to the Barn
URL:https://www.ericbyrdtrio.com/event/concert-16/
LOCATION:Barns of Rose Hill\, 95 Chalmers Ct.\, Berryville\, Virginia\, 22611
ATTACH;FMTTYPE=image/png:https://www.ericbyrdtrio.com/wp-content/uploads/2024/08/gray-1.png
END:VEVENT
BEGIN:VEVENT
DTSTART;TZID=America/New_York:20260531T150000
DTEND;TZID=America/New_York:20260531T170000
DTSTAMP:20260419T155301
CREATED:20260107T025504Z
LAST-MODIFIED:20260107T025538Z
UID:3113-1780239600-1780246800@www.ericbyrdtrio.com
SUMMARY:Concert
DESCRIPTION:
URL:https://www.ericbyrdtrio.com/event/concert-17/
LOCATION:Reveler Experiences\, 3108 W Cary St Richmond\, VA 23221\, Richmond\, Virginia\, 23221
ATTACH;FMTTYPE=image/jpeg:https://www.ericbyrdtrio.com/wp-content/uploads/2026/01/Eric-Bryd-Trio-17.jpg
END:VEVENT
END:VCALENDAR